BEGIN:VCALENDAR
VERSION:2.0
PRODID:-//wp-events-plugin.com//7.2.3.1//EN
TZID:Europe/Berlin
X-WR-TIMEZONE:Europe/Berlin
BEGIN:VEVENT
UID:0-23@mlgl.vamos-muenster.de
DTSTART;TZID=Europe/Berlin:20260417T153000
DTEND;TZID=Europe/Berlin:20260417T170000
DTSTAMP:20260402T101026Z
URL:https://mlgl.vamos-muenster.de/events/konsumkritischer-stadtrundgang/
SUMMARY:Konsumkritischer Stadtrundgang
DESCRIPTION:[vc_row][vc_column][vc_column_text css=""]Im Rahmen der Wandeln
  &amp\; Handeln Tage findet am 17. April um 15:30 Uhr in Billerbeck ein ko
 nsumkritischer Stadtrundgang statt.\nDie Stadtführung beschäftigt sich m
 it dem Thema Textilien und Nachhaltigkeit. Gemeinsam erkunden wir die Mitm
 achstation "mach dich auf die Socken" von Vamos e.V.\, werfen einen Blick 
 auf die internationale Textilindustrie und entdecken lokale Ansätze und L
 ösungen in Billerbeck .\nDer Rundgang ist ein offenes Angebot\, eine Vora
 nmeldung ist nicht erforderlich.[/vc_column_text][/vc_column][/vc_row]
LOCATION:Weltladen Billerbeck\, Ludgeristraße 2\,\, Billerbeck\,  48727 \,
  Deutschland
GEO:51.977981;7.290531
X-APPLE-STRUCTURED-LOCATION;VALUE=URI;X-ADDRESS=Ludgeristraße 2\,\, Biller
 beck\,  48727 \, Deutschland;X-APPLE-RADIUS=100;X-TITLE=Weltladen Billerbe
 ck:geo:51.977981,7.290531
END:VEVENT
BEGIN:VTIMEZONE
TZID:Europe/Berlin
X-LIC-LOCATION:Europe/Berlin
BEGIN:DAYLIGHT
DTSTART:20260329T030000
TZOFFSETFROM:+0100
TZOFFSETTO:+0200
TZNAME:CEST
END:DAYLIGHT
END:VTIMEZONE
END:VCALENDAR